BEGIN:VCALENDAR
PRODID:-//Microsoft Corporation//Outlook 16.0 MIMEDIR//EN
VERSION:2.0
METHOD:PUBLISH
X-MS-OLK-FORCEINSPECTOROPEN:TRUE
BEGIN:VEVENT
CLASS:PUBLIC
CREATED:20260312T090343Z
DESCRIPTION:Europe’s New Congress for Digital Innovation in Logistics\n\n
	www.loginext.de/en\n
DTEND;VALUE=DATE:20260904
DTSTAMP:20260312T090207Z
DTSTART;VALUE=DATE:20260902
LAST-MODIFIED:20260312T090343Z
LOCATION:CCH - Congress Center Hamburg
PRIORITY:5
SEQUENCE:0
SUMMARY;LANGUAGE=de:LogiNext Germany
TRANSP:TRANSPARENT
UID:20260902-ff2cc3b8c7@hamburg-messe.de
X-ALT-DESC;FMTTYPE=text/html:<!DOCTYPE HTML PUBLIC "-//W3C//DTD HTML 3.2//E
	N">\n<HTML>\n<HEAD>\n<META NAME="Generator" CONTENT="MS Exchange Server ve
	rsion 16.0.19725.20058">\n<TITLE></TITLE>\n</HEAD>\n<BODY>\n<!-- Converted
	 from text/plain format -->\n\n<P><FONT SIZE=2>Europe’s New Congress for
	 Digital Innovation in Logistics</FONT>\n</P>\n\n<P><FONT SIZE=2>www.login
	ext.de/en</FONT>\n</P>\n\n</BODY>\n</HTML>
X-MICROSOFT-CDO-BUSYSTATUS:FREE
X-MICROSOFT-CDO-IMPORTANCE:1
X-MS-OLK-AUTOFILLLOCATION:FALSE
END:VEVENT
END:VCALENDAR
